BEGIN:VCALENDAR
VERSION:2.0
PRODID:-//ACUFI - ECPv6.15.20//NONSGML v1.0//EN
CALSCALE:GREGORIAN
METHOD:PUBLISH
X-WR-CALNAME:ACUFI
X-ORIGINAL-URL:https://acufi.net
X-WR-CALDESC:Events for ACUFI
REFRESH-INTERVAL;VALUE=DURATION:PT1H
X-Robots-Tag:noindex
X-PUBLISHED-TTL:PT1H
BEGIN:VTIMEZONE
TZID:UTC
BEGIN:STANDARD
TZOFFSETFROM:+0000
TZOFFSETTO:+0000
TZNAME:UTC
DTSTART:20170101T000000
END:STANDARD
END:VTIMEZONE
BEGIN:VEVENT
DTSTART;TZID=UTC:20190727T100000
DTEND;TZID=UTC:20190727T140000
DTSTAMP:20260425T150617
CREATED:20190721T110037Z
LAST-MODIFIED:20240221T115012Z
UID:1205-1564221600-1564236000@acufi.net
SUMMARY:ACUFI Breakfast Seminar 2019
DESCRIPTION:ACUFI Breakfast Seminar 2019\n\nTheme: Mobilizing Resources in Support of Israel.\nSeminar Topic: Trump’s America Israel & Kingdom Expansion.\nDate: July 27th\, 2019\nTime: 10am – 2am\nVenue: Elcee Centre\, The Recovery House Church Auditorium\, 4th/7th Avenue Festac. \nBi-Annual Breakfast Seminar to create awareness and support for the Nation of Israel as the only Jewish Nation in the world. \nPst Edwin George Okor\nChairman/Founder\, ACUFI (Host)
URL:https://acufi.net/event/acufi-breakfast-seminar-2019/
LOCATION:Recovery House Church\, Elcee centre\, 4th/7th Avenue Festac\, Lagos\,\, Lagos\, Lagos\, 215215\, Nigeria
CATEGORIES:Breakfast Meeting,Seminar
ATTACH;FMTTYPE=image/jpeg:https://acufi.net/wp-content/uploads/2023/07/breakfast-seminar.jpg
ORGANIZER;CN="Association of Christians United for Israel":MAILTO:info@acufi.net
END:VEVENT
BEGIN:VEVENT
DTSTART;TZID=UTC:20181228T100000
DTEND;TZID=UTC:20181228T140000
DTSTAMP:20260425T150617
CREATED:20181221T100147Z
LAST-MODIFIED:20231221T101909Z
UID:851-1545991200-1546005600@acufi.net
SUMMARY:Contending for Israel Seminar
DESCRIPTION:Contending for Israel Seminar\n\nThe Nations of the World are up in arms against the Lord and the Nation of Israel.\n\n\n\nHave you been raised for such a time as this? If your answer is yes\, then you need to attend the Association of Christian United For Israel (ACUFI) Seminar aimed at empowering Christian Advocates for Israel.\n\n\n\nDate: Friday\, December 28th\, 2018\nTime: 10am – 4pm (Prompt)\nVenue: Tastee Fried Chicken Complex (TFC)\, 22 Road Festac.
URL:https://acufi.net/event/contending-for-israel-seminar/
LOCATION:Tastee Fried Chicken Complex\, 22 Road\, Festac\, Lagos\, Lagos\, 215215\, Nigeria
CATEGORIES:Seminar
ATTACH;FMTTYPE=image/jpeg:https://acufi.net/wp-content/uploads/2023/12/contending-for-israel.jpg
ORGANIZER;CN="Association of Christians United for Israel":MAILTO:info@acufi.net
END:VEVENT
BEGIN:VEVENT
DTSTART;TZID=UTC:20180512T090000
DTEND;TZID=UTC:20180512T120000
DTSTAMP:20260425T150617
CREATED:20180508T105912Z
LAST-MODIFIED:20240221T110846Z
UID:1195-1526115600-1526126400@acufi.net
SUMMARY:ACUFI Breakfast Meeting for Israel at 70
DESCRIPTION:ACUFI Breakfast Meeting for Israel at 70\n\nTheme: Rallying For Israel And The Christian Race.\nDate: May 12th\, 2018\nTime: 9am – 12 Noon\nVenue: Elcee Centre\, The Recovery House Church Auditorium\, 4th/7th Avenue Festac.\n• Attendance/Breakfast is served free\, but pre-registration is required to enable us work our logistics. \n\nPst Edwin George Okor\nChairman/Founder\, ACUFI (Host)
URL:https://acufi.net/event/acufi-breakfast-meeting-for-israel-at-70/
LOCATION:Recovery House Church\, Elcee centre\, 4th/7th Avenue Festac\, Lagos\,\, Lagos\, Lagos\, 215215\, Nigeria
CATEGORIES:Breakfast Meeting
ATTACH;FMTTYPE=image/jpeg:https://acufi.net/wp-content/uploads/2018/05/Israel-at-70.jpg
ORGANIZER;CN="Association of Christians United for Israel":MAILTO:info@acufi.net
END:VEVENT
END:VCALENDAR